BEGIN:VCALENDAR
VERSION:2.0
PRODID:-//Ultra Comdey Berlin - ECPv6.7.1//NONSGML v1.0//EN
CALSCALE:GREGORIAN
METHOD:PUBLISH
X-WR-CALNAME:Ultra Comdey Berlin
X-ORIGINAL-URL:https://ultracomedyberlin.com
X-WR-CALDESC:Events for Ultra Comdey Berlin
REFRESH-INTERVAL;VALUE=DURATION:PT1H
X-Robots-Tag:noindex
X-PUBLISHED-TTL:PT1H
BEGIN:VTIMEZONE
TZID:UTC
BEGIN:STANDARD
TZOFFSETFROM:+0000
TZOFFSETTO:+0000
TZNAME:UTC
DTSTART:20240101T000000
END:STANDARD
END:VTIMEZONE
BEGIN:VEVENT
DTSTART;TZID=UTC:20241027T203000
DTEND;TZID=UTC:20241027T203000
DTSTAMP:20260424T001138
CREATED:20241015T144702Z
LAST-MODIFIED:20241021T154311Z
UID:10000001-1730061000-1730061000@ultracomedyberlin.com
SUMMARY:Naked Dirty Minds
DESCRIPTION:“No half-thruths\, just naked minds” \nThe only show in town where Comedians & Audiences can release their inner demons and make you laugh and feel guilty at the same time! \nIf you like friendly and cheerful comedians – do not come\, we will surely traumatize you. \nBut\, hey! If you’re already traumatized because…. um\, life? And you want to see more traumatized people\, who are also trying to be funny about it: This is your show\, folks! \nSo\, expect any kind of material: from dark to the very dark & Enter at your own risk! \n» Doors: 20:00 h\n» Show: 20:30 h \n\n\nGet your free reservation now & donate 10-15€ at the door \n*Reservations are only kept until 20:15\, so please arrive before that for assured seating.
URL:https://ultracomedyberlin.com/event/naked-dirty-minds/
LOCATION:Valentin Stüberl\, Donaustr 112\, Berlin\, 12043\, Germany
CATEGORIES:Comedy
ATTACH;FMTTYPE=image/png:https://ultracomedyberlin.com/wp-content/uploads/2024/10/Naked-Weekly-Poster.png
END:VEVENT
BEGIN:VEVENT
DTSTART;TZID=UTC:20241029T223000
DTEND;TZID=UTC:20241029T223000
DTSTAMP:20260424T001138
CREATED:20241016T153238Z
LAST-MODIFIED:20241022T085346Z
UID:10000002-1730241000-1730241000@ultracomedyberlin.com
SUMMARY:Who shot Bambi: A Dark Comedy Show
DESCRIPTION:The only show in town where Comedians & Audiences can release their inner demons and make you laugh and feel guilty at the same time!\nIf you like friendly and cheerful comedians – do not come\, we will surely traumatize you.\nBut\, hey! If you’re already traumatized because…. um\, life? And you want to see more traumatized people\, who are also trying to be funny about it: This is your show\, folks!\nSo\, expect any kind of material: from dark to the very dark & Enter at your own risk!\n\n» Doors: 22:00 h\n» Show: 22:30 h\n\n\nGet your free reservation now & donate 10-15€ after the show!\n*Reservations are only kept until 22:15\, so please arrive before that for assured seating.
URL:https://ultracomedyberlin.com/event/who-shot-bambi-a-dark-comedy-show/
LOCATION:Valentin Stüberl\, Donaustr 112\, Berlin\, 12043\, Germany
CATEGORIES:Comedy
ATTACH;FMTTYPE=image/png:https://ultracomedyberlin.com/wp-content/uploads/2024/10/The-Legendary-Show-Poster-24.png
END:VEVENT
BEGIN:VEVENT
DTSTART;TZID=UTC:20250610T200000
DTEND;TZID=UTC:20250610T223000
DTSTAMP:20260424T001138
CREATED:20241022T074250Z
LAST-MODIFIED:20250605T112816Z
UID:10000006-1749585600-1749594600@ultracomedyberlin.com
SUMMARY:The Green Show @Poropati Bar Neukölln
DESCRIPTION:Finally a comedy show for all broccoli lovers in a smokers’ bar! \nTHE GREEN SHOW \nWhat you get is what you want – guaranteed by our sponsors and on top of that – the best comedians in Berlin! \nWhat else can you wish for? \nThat’s right: Nothing\, it’s a dream come true! \nWhen?\nEvery Tuesday at Poropati Bar Berlin \nEach comedian gets between 5-8 minutes and there is no censorship\, so expect everything! \nPlease make a reservation so that you can ensure a seat – the space is limited and the show gets soldout fast! \nDoors: 20:00\nShow: 20:30 \nEntry: 5€ Reservation Fee Online + 10€ Extra at the door (Regular tickets) / 5€ extra at the door (For students) \nYou can also show up without reservation – noshows seats will be given around 20:20. \n*Reservations are only kept until 20:15\, so please arrive before that for assured seating
URL:https://ultracomedyberlin.com/event/naked-dirty-minds-english-comedy-open-mic/
LOCATION:Poropati Bar\, Weserstr. 79\, Berlin\, 12059\, Germany
CATEGORIES:Comedy
ATTACH;FMTTYPE=image/jpeg:https://ultracomedyberlin.com/wp-content/uploads/2024/10/503953177_1031075872543283_796800514799205151_n.jpg
END:VEVENT
BEGIN:VEVENT
DTSTART;TZID=UTC:20250628T200000
DTEND;TZID=UTC:20250628T220000
DTSTAMP:20260424T001138
CREATED:20241016T154128Z
LAST-MODIFIED:20250605T113224Z
UID:10000003-1751140800-1751148000@ultracomedyberlin.com
SUMMARY:Deine Mudda Komedy
DESCRIPTION:“Deine Mudda Comedy Open Mic” ist DER Treffpunkt für angehende Comedians und alle\, die sich für einen guten Lacher begeistern! \nEinmal in Monat treten neue Talente auf\, um ihre besten Witze und schrägsten Geschichten zu teilen – und das ganz ohne Skript! \nOb schlagfertige Sprüche oder spontane Gags – bei uns gilt: Humor kennt keine Regeln! \nDas ganze Spektakel findet im PAKD Gallery Berlin\, nur 50m von S-OSTKREUZ entfernt statt. \nSei dabei und erlebe einen unvergesslichen Abend voller Witze\, Lacher und Überraschungen. \nEinlass : 19:30\nSTART: 20:00 \nEintritt: UMSONST\, bitte reserviert rechtzeitig! \nNo Show Sitze werden um 19:50 vergeben.
URL:https://ultracomedyberlin.com/event/the-wild-show-english-open-mic/
LOCATION:PAKD Gallery\, An d. Mole 9\, Berlin\, 10317
CATEGORIES:Comedy
ATTACH;FMTTYPE=image/png:https://ultracomedyberlin.com/wp-content/uploads/2024/10/Kopie-von-Add-a-heading-2.png
END:VEVENT
END:VCALENDAR